BEGIN:VCALENDAR
VERSION:2.0
PRODID:-//LA SFERA ARMONIOSA - ECPv6.15.11//NONSGML v1.0//EN
CALSCALE:GREGORIAN
METHOD:PUBLISH
X-WR-CALNAME:LA SFERA ARMONIOSA
X-ORIGINAL-URL:https://lasfera-armoniosa.com
X-WR-CALDESC:Events for LA SFERA ARMONIOSA
REFRESH-INTERVAL;VALUE=DURATION:PT1H
X-Robots-Tag:noindex
X-PUBLISHED-TTL:PT1H
BEGIN:VTIMEZONE
TZID:UTC
BEGIN:STANDARD
TZOFFSETFROM:+0000
TZOFFSETTO:+0000
TZNAME:UTC
DTSTART:20210101T000000
END:STANDARD
END:VTIMEZONE
BEGIN:VEVENT
DTSTART;TZID=UTC:20220917T200000
DTEND;TZID=UTC:20220917T213000
DTSTAMP:20260416T122122
CREATED:20220611T113241Z
LAST-MODIFIED:20220711T100951Z
UID:500-1663444800-1663450200@lasfera-armoniosa.com
SUMMARY:Festival Muze van Zuid - Channa Malkin & La Sfera Armoniosa
DESCRIPTION:Op zaterdag 17 september speelt La Sfera Armoniosa met zangeres Channa Malkin op het festival Muze van Zuid een barokprogramma geïnspireerd door de soundscape van Amsterdam in de tijd van Sweelinck\, diens zoon\, Vondel en Spinoza. Channa Malkin zingt meeslepende Ladino-liederen. \nChanna Malkin (sopraan) en La Sfera Armoniosa: Emma Huijsser (harp & blokfluit) Paulina van Laarhoven (vihuela d’arco) en Mike Fentross (barokgitaar & vihuela da mano)
URL:https://lasfera-armoniosa.com/concert/festival-muze-van-zuid-channa-malkin-la-sfera-armoniosa/
LOCATION:Vondelkerk\, Vondelstraat 120\, Amsterdam\, NH\, 1054 GS\, Netherlands
ATTACH;FMTTYPE=image/jpeg:https://lasfera-armoniosa.com/wp-content/uploads/2022/06/channamalkin-16x9-1.jpg
ORGANIZER;CN="Muze van Zuid":MAILTO:info@muzevanzuid.nl
END:VEVENT
END:VCALENDAR