BEGIN:VCALENDAR
VERSION:2.0
PRODID:-//LA SFERA ARMONIOSA - ECPv6.15.11//NONSGML v1.0//EN
CALSCALE:GREGORIAN
METHOD:PUBLISH
X-WR-CALNAME:LA SFERA ARMONIOSA
X-ORIGINAL-URL:https://lasfera-armoniosa.com
X-WR-CALDESC:Events for LA SFERA ARMONIOSA
REFRESH-INTERVAL;VALUE=DURATION:PT1H
X-Robots-Tag:noindex
X-PUBLISHED-TTL:PT1H
BEGIN:VTIMEZONE
TZID:Europe/Amsterdam
BEGIN:DAYLIGHT
TZOFFSETFROM:+0100
TZOFFSETTO:+0200
TZNAME:CEST
DTSTART:20230326T010000
END:DAYLIGHT
BEGIN:STANDARD
TZOFFSETFROM:+0200
TZOFFSETTO:+0100
TZNAME:CET
DTSTART:20231029T010000
END:STANDARD
BEGIN:DAYLIGHT
TZOFFSETFROM:+0100
TZOFFSETTO:+0200
TZNAME:CEST
DTSTART:20240331T010000
END:DAYLIGHT
BEGIN:STANDARD
TZOFFSETFROM:+0200
TZOFFSETTO:+0100
TZNAME:CET
DTSTART:20241027T010000
END:STANDARD
BEGIN:DAYLIGHT
TZOFFSETFROM:+0100
TZOFFSETTO:+0200
TZNAME:CEST
DTSTART:20250330T010000
END:DAYLIGHT
BEGIN:STANDARD
TZOFFSETFROM:+0200
TZOFFSETTO:+0100
TZNAME:CET
DTSTART:20251026T010000
END:STANDARD
END:VTIMEZONE
BEGIN:VEVENT
DTSTART;TZID=Europe/Amsterdam:20240913T193000
DTEND;TZID=Europe/Amsterdam:20240913T210000
DTSTAMP:20260421T171634
CREATED:20240610T142803Z
LAST-MODIFIED:20240920T131359Z
UID:1739-1726255800-1726261200@lasfera-armoniosa.com
SUMMARY:Huygens!
DESCRIPTION:Ontdek het veelzijdige leven van Constantijn Huygens (1596-1687) in een muzikale uitvoering van woord\, beeld en geur. Deze 17e-eeuwse Hagenaar\, begraven in de Grote Kerk in Den Haag\, was niet alleen een bekende diplomaat en secretaris van drie stadhouders\, maar ook een getalenteerd dichter\, musicus\, kunstkenner\, architect en wetenschapper. Tot voor kort was het onbekend dat hij ook een gepassioneerd parfumeur was: er zijn meer dan 150 recepten van zijn hand. \nHuygens’ eigen composities worden uitgevoerd door La Sfera Armoniosa (Paulina van Laarhoven-Viola da gamba\, Mike Fentross-Theorbe en barokgitaar en Lette Vos-Sopraan) Tevens worden composities gespeeld van Huygens’ muzikale contacten\, zoals Lanier\, Foscarini\, Monteverdi en Lambert. \nHuygens! is een unieke\, audiovisuele geurbeleving die Huygens en zijn tijd tot leven brengt. Voorafgaand en na afloop is een kleine tentoonstelling rondom Constantijn Huygens te bekijken. Ook is er mogelijkheid tot aanschaf van boeken en muziek. \nIn dit programma wordt door Ineke Huysman aandacht besteed aan de vele vrouwelijke contacten die Huygens had en die een rode draad door zijn lange leven speelden. Verhalen en beelden laten zien hoe hij en zijn vriendinnen elkaars leven hebben beïnvloed.
URL:https://lasfera-armoniosa.com/concert/huygens/
LOCATION:Grote Kerk Den Haag\, Rond de Grote Kerk 12\, Den Haag\, ZH\, 2513 AM\, Netherlands
ATTACH;FMTTYPE=image/jpeg:https://lasfera-armoniosa.com/wp-content/uploads/2024/05/https___cdn.evbuc_.com_images_740711219_32694912473_1_original.jpeg
ORGANIZER;CN="Grote Kerk Den Haag":MAILTO:contact@grote-kerk.nl
END:VEVENT
END:VCALENDAR