BEGIN:VCALENDAR
VERSION:2.0
PRODID:-//LA SFERA ARMONIOSA - ECPv6.15.11//NONSGML v1.0//EN
CALSCALE:GREGORIAN
METHOD:PUBLISH
X-WR-CALNAME:LA SFERA ARMONIOSA
X-ORIGINAL-URL:https://lasfera-armoniosa.com
X-WR-CALDESC:Events for LA SFERA ARMONIOSA
REFRESH-INTERVAL;VALUE=DURATION:PT1H
X-Robots-Tag:noindex
X-PUBLISHED-TTL:PT1H
BEGIN:VTIMEZONE
TZID:UTC
BEGIN:STANDARD
TZOFFSETFROM:+0000
TZOFFSETTO:+0000
TZNAME:UTC
DTSTART:20220101T000000
END:STANDARD
END:VTIMEZONE
BEGIN:VEVENT
DTSTART;TZID=UTC:20231126T200000
DTEND;TZID=UTC:20231126T220000
DTSTAMP:20260415T185226
CREATED:20230828T130324Z
LAST-MODIFIED:20231105T111416Z
UID:901-1701028800-1701036000@lasfera-armoniosa.com
SUMMARY:La Sfera Armoniosa & Zero Dance Theatre -
DESCRIPTION:De bekende Alkmaarse choreograaf/danser Denden Karadeniz en luitist/dirigent Mike Fentross maken voor hun gezelschappen Zero Dance Theatre en barokensemble La Sfera Armoniosa een gezamenlijke\, feestelijke voorstelling ter ere van de bruiloft van kunstenaar Maria Tesselschade en Alkmaarder Allart Jansz. Crombalch. \nPraetorius meets Urban Contemporary Dance\nDe muze van de dans ‘Terpsichore’ inspireerde de Duitse componist Michael Praetorius in 1612 tot het verzamelen\, arrangeren en publiceren van meer dan 300 dansmelodieën. Denden Karadeniz\, choreograaf\, danser en leider van Zero Dance Company\, werd op zijn beurt in 2021 weer geïnspireerd door de muziek van Praetorius en door de reis terug in de tijd. \nPraetorius’ bundel bestaat uit een bonte verzameling van dansmelodieën uit Frankrijk\, Duitsland\, Spanje\, Engeland\, Italië en Nederland. De melodieën werden door Praetorius geharmoniseerd en door Oude Muziek specialist\, luitist en dirigent Mike Fentross van verschillende orkestkleuren voorzien. \nZero Dance Company bestaat uit dansers van verschillende dansculturen\, van breakdance tot modern dance en popping. Karadeniz creëert in zijn choreografie visuele harmonieën met de verschillende culturele elementen en gaat tevens een fascinerende dialoog aan met de muziek van 400 jaar geleden. \nDe musici bevinden zich op het podium en zullen een onderdeel worden van het fysieke bewegingsidioom van Zero Dance Company. Daarmee ontstaat er niet alleen een schitterend toneelbeeld maar ook een spannende dialoog tussen dansers en musici. Het is de machtige godin Terpsichore die al deze culturen van verschillende landen\, disciplines\, stijlen en eeuwen met elkaar verbindt. \nKom precies 400 jaar later naar deze unieke voorstelling gebaseerd op wederzijde inspiratie tussen dans en muziek en de bijzondere persoonlijkheid van de 17de eeuwse vrijgevochten Maria Tesselschade. Een voorstelling die verwondert\, verbindt en de tijd overstijgt!
URL:https://lasfera-armoniosa.com/concert/la-sfera-armoniosa-zero-dance-theatre/
LOCATION:Grote Kerk Alkmaar\, Koorstraat 2\, Alkmaar\, NH\, 1811 GP\, Netherlands
ATTACH;FMTTYPE=image/jpeg:https://lasfera-armoniosa.com/wp-content/uploads/2023/07/ZDT-1.jpg
ORGANIZER;CN="Grote Kerk Alkmaar":MAILTO:info@grotekerk-alkmaar.nl
END:VEVENT
END:VCALENDAR