BEGIN:VCALENDAR
VERSION:2.0
PRODID:-//LA SFERA ARMONIOSA - ECPv6.15.11//NONSGML v1.0//EN
CALSCALE:GREGORIAN
METHOD:PUBLISH
X-WR-CALNAME:LA SFERA ARMONIOSA
X-ORIGINAL-URL:https://lasfera-armoniosa.com
X-WR-CALDESC:Events for LA SFERA ARMONIOSA
REFRESH-INTERVAL;VALUE=DURATION:PT1H
X-Robots-Tag:noindex
X-PUBLISHED-TTL:PT1H
BEGIN:VTIMEZONE
TZID:UTC
BEGIN:STANDARD
TZOFFSETFROM:+0000
TZOFFSETTO:+0000
TZNAME:UTC
DTSTART:20210101T000000
END:STANDARD
END:VTIMEZONE
BEGIN:VEVENT
DTSTART;TZID=UTC:20221007T200000
DTEND;TZID=UTC:20221007T211500
DTSTAMP:20260416T061615
CREATED:20220611T125118Z
LAST-MODIFIED:20220927T091709Z
UID:546-1665172800-1665177300@lasfera-armoniosa.com
SUMMARY:Ombre de mon Amant
DESCRIPTION:Als je ooit bewijs nodig hebt dat muziek echt een internationale taal is\, dan is dit het wel. Een Libanese zangeres\, een barokmuzikant en een jazzmuzikant verenigd in hun liefde voor mooie liederen die hen in staat stellen en inspireren om op hun best te zingen en te spelen. \nMet Rima Khcheich spelen Maarten Ornstein (basklarinet) en Mike Fentross  (vihuela en theorbe) liederen uit het Westen en uit het Oosten\, zowel oud als nieuw. Muziek van Dawud Hosni\, Michel Lambert\, Umm Kutlhum en Constantijn Huygens gaan naast elkaar\, met nieuwe teksten in het Arabisch op 17e eeuwse barokliederen en vernieuwende arrangementen voor de klassieke Arabische liederen. Met deze gedurfde zet zetten deze drie musici de toon in het overschrijden van de grenzen tussen jazz\, klassieke Europese en Arabische muziek. \nBegin november ontvangen Maarten Ornstein en Mike Fentross de Willem Breukerprijs voor hun grensverleggende en inventieve manier van muziekmaken.  \n“Het duo Maarten Ornstein-Mike Fentross weet het traditionele in de eigen tijd te plaatsen door oude en nieuwe muziekculturen uit verschillende delen van de wereld subtiel te mengen. Zij stapelen verrassing op verrassing en verkennen de grenzen tussen West-Europese klassieke muziek\, Baltische folklore en improvisatie.” \nHet album ‘Ombre de Mon Amant’ werd in april 2018 opgenomen voor Zefir Records\, en begin 2019 uitgebracht. \n\nKaarten bestellen:\nhttps://www.klassiekemuziek.nl/e/16610/la-sfera-armoniosa-ombre-de-mon-amant \nAbonnement voor de serie Oude Muziek (5 concerten) bestellen:\nhttps://www.klassiekemuziek.nl/e/16625/tickets
URL:https://lasfera-armoniosa.com/concert/ombre-de-mon-amant-alkmaar/
LOCATION:Lutherse Kerk\, Oudegracht 187\, Alkmaar\, NH\, 1811 CD\, Netherlands
ATTACH;FMTTYPE=image/jpeg:https://lasfera-armoniosa.com/wp-content/uploads/2022/06/maarten-ornstein-mike-fentross-rima-khcheich-s1920x1080-q80.jpeg
ORGANIZER;CN="La Sfera Armoniosa":MAILTO:office@lasfera-armoniosa.com
END:VEVENT
END:VCALENDAR