BEGIN:VCALENDAR
VERSION:2.0
PRODID:-//LA SFERA ARMONIOSA - ECPv6.15.11//NONSGML v1.0//EN
CALSCALE:GREGORIAN
METHOD:PUBLISH
X-WR-CALNAME:LA SFERA ARMONIOSA
X-ORIGINAL-URL:https://lasfera-armoniosa.com
X-WR-CALDESC:Events for LA SFERA ARMONIOSA
REFRESH-INTERVAL;VALUE=DURATION:PT1H
X-Robots-Tag:noindex
X-PUBLISHED-TTL:PT1H
BEGIN:VTIMEZONE
TZID:UTC
BEGIN:STANDARD
TZOFFSETFROM:+0000
TZOFFSETTO:+0000
TZNAME:UTC
DTSTART:20210101T000000
END:STANDARD
END:VTIMEZONE
BEGIN:VEVENT
DTSTART;TZID=UTC:20221006T080000
DTEND;TZID=UTC:20221006T170000
DTSTAMP:20260418T001534
CREATED:20220611T113649Z
LAST-MODIFIED:20220711T101159Z
UID:527-1665043200-1665075600@lasfera-armoniosa.com
SUMMARY:Stedelijk Museum Alkmaar - 80-jarige oorlog/verzoening
DESCRIPTION:
URL:https://lasfera-armoniosa.com/concert/stedelijk-museum-alkmaar-80-jarige-oorlog-verzoening/
LOCATION:Stedelijk Museum Alkmaar\, Canadaplein 1\, Alkmaar\, NH\, 1811 KE\, Netherlands
END:VEVENT
END:VCALENDAR