BEGIN:VCALENDAR
VERSION:2.0
PRODID:-//LA SFERA ARMONIOSA - ECPv6.15.11//NONSGML v1.0//EN
CALSCALE:GREGORIAN
METHOD:PUBLISH
X-WR-CALNAME:LA SFERA ARMONIOSA
X-ORIGINAL-URL:https://lasfera-armoniosa.com
X-WR-CALDESC:Events for LA SFERA ARMONIOSA
REFRESH-INTERVAL;VALUE=DURATION:PT1H
X-Robots-Tag:noindex
X-PUBLISHED-TTL:PT1H
BEGIN:VTIMEZONE
TZID:Europe/Istanbul
BEGIN:STANDARD
TZOFFSETFROM:+0300
TZOFFSETTO:+0300
TZNAME:+03
DTSTART:20230101T000000
END:STANDARD
END:VTIMEZONE
BEGIN:VEVENT
DTSTART;TZID=Europe/Istanbul:20240416T080000
DTEND;TZID=Europe/Istanbul:20240416T170000
DTSTAMP:20260416T162721
CREATED:20231219T150639Z
LAST-MODIFIED:20240103T120043Z
UID:1164-1713254400-1713286800@lasfera-armoniosa.com
SUMMARY:XII. Istanbul International Chamber Music Festival
DESCRIPTION:With Channa Malkin (soprano) and Emilio Aguilar (tenor) \nMore information follows soon
URL:https://lasfera-armoniosa.com/concert/xii-istanbul-international-chamber-music-festival/
ATTACH;FMTTYPE=image/jpeg:https://lasfera-armoniosa.com/wp-content/uploads/2023/12/La-Sfera-Armoniosa-MF-CM-EA_1110484_sm.jpg
END:VEVENT
END:VCALENDAR