BEGIN:VCALENDAR
VERSION:2.0
PRODID:-//LA SFERA ARMONIOSA - ECPv6.15.11//NONSGML v1.0//EN
CALSCALE:GREGORIAN
METHOD:PUBLISH
X-WR-CALNAME:LA SFERA ARMONIOSA
X-ORIGINAL-URL:https://lasfera-armoniosa.com
X-WR-CALDESC:Events for LA SFERA ARMONIOSA
REFRESH-INTERVAL;VALUE=DURATION:PT1H
X-Robots-Tag:noindex
X-PUBLISHED-TTL:PT1H
BEGIN:VTIMEZONE
TZID:UTC
BEGIN:STANDARD
TZOFFSETFROM:+0000
TZOFFSETTO:+0000
TZNAME:UTC
DTSTART:20220101T000000
END:STANDARD
END:VTIMEZONE
BEGIN:VEVENT
DTSTART;TZID=UTC:20230304T200000
DTEND;TZID=UTC:20230304T213000
DTSTAMP:20260424T052027
CREATED:20220611T125705Z
LAST-MODIFIED:20230117T093227Z
UID:551-1677960000-1677965400@lasfera-armoniosa.com
SUMMARY:Leçons de Ténèbres
DESCRIPTION:La Sfera Armoniosa voert met sopranen Keren Motseri en Channa Malkin kort voor Pasen de indrukwekkende Leçons de Ténèbres van Couperin uit. \nDe Leçons de Ténèbres zijn gebaseerd op de bijbelse Klaagliederen\, die worden toegeschreven aan de profeet Jeremiah. Meerdere componisten lieten zich inspireren door deze teksten maar in Frankrijk ontwikkelde zich de Leçons de Ténèbres. Deze hadden een liturgische functie en daarom ook een specifieke structuur. \nOok François Couperin waagde zich aan de traditie van deze klaagzangen en kon het werk niet voltooien. Maar\, wat er wèl is\, is van een bijzondere kwaliteit. Bij uitvoeringen werden traditioneel traditioneel één voor één de kaarsen gedoofd om te eindigen in duisternis\, de donkerte van de nacht. De allerlaatste kaars\, die symbool staat voor Christus\, werd  niet gedoofd\, maar werd achter het altaar geborgen tot Pasen. \nNaast Keren Motseri en Channa Malkin zijn bij dit concert de Pieter van Dijk (orgel) Paulina van Laarhoven (viola da gamba) en Mike Fentross (theorbe) te horen. \n\nKaarten bestellen:\nhttps://www.klassiekemuziek.nl/p/16615/l/la-sfera-armoniosa-keren-motseri-channa-malkin-lecons-de-tenebres \nAbonnement voor de serie Oude Muziek (5 concerten) bestellen:\nhttps://www.klassiekemuziek.nl/e/16625/tickets
URL:https://lasfera-armoniosa.com/concert/lecons-de-tenebres/
LOCATION:Lutherse Kerk\, Oudegracht 187\, Alkmaar\, NH\, 1811 CD\, Netherlands
ATTACH;FMTTYPE=image/jpeg:https://lasfera-armoniosa.com/wp-content/uploads/2022/06/Keren-Motseri-Channa-Malkin.jpg
ORGANIZER;CN="La Sfera Armoniosa":MAILTO:office@lasfera-armoniosa.com
END:VEVENT
END:VCALENDAR