BEGIN:VCALENDAR
VERSION:2.0
PRODID:-//LA SFERA ARMONIOSA - ECPv6.15.11//NONSGML v1.0//EN
CALSCALE:GREGORIAN
METHOD:PUBLISH
X-WR-CALNAME:LA SFERA ARMONIOSA
X-ORIGINAL-URL:https://lasfera-armoniosa.com
X-WR-CALDESC:Events for LA SFERA ARMONIOSA
REFRESH-INTERVAL;VALUE=DURATION:PT1H
X-Robots-Tag:noindex
X-PUBLISHED-TTL:PT1H
BEGIN:VTIMEZONE
TZID:UTC
BEGIN:STANDARD
TZOFFSETFROM:+0000
TZOFFSETTO:+0000
TZNAME:UTC
DTSTART:20220101T000000
END:STANDARD
END:VTIMEZONE
BEGIN:VEVENT
DTSTART;TZID=UTC:20231126T133000
DTEND;TZID=UTC:20231126T144500
DTSTAMP:20260419T205427
CREATED:20231105T135015Z
LAST-MODIFIED:20240103T120547Z
UID:991-1701005400-1701009900@lasfera-armoniosa.com
SUMMARY:Twee Alkmaarse Diva's - met Geert Mak (uitverkocht)
DESCRIPTION:Geert Mak en La Sfera Armoniosa gaan vier eeuwen terug en vertellen het verhaal van Maria Tesselschade en haar goede vriendin Francisca Duarte. Maria en Francisca hadden een heel andere achtergrond maar kwamen beiden uit welgestelde en kunstminnende families. \nDankzij Tesselschade kwam Duarte ook in contact met P.C. Hooft\, Caspar Barlaeus en andere muzikale en literaire talenten van haar tijd. Beide vrouwen hadden een groot muzikaal talent en traden ook gezamenlijk op. \nZangeressen Channa Malkin en Monica Monteiro zingen\, net als Maria en Francisca 4 eeuwen geleden\, samen muziek van verschillende componisten uit de barok. \nHet concert met Geert Mak en La Sfera Armoniosa vindt plaats op 26 november 2023 van 13:30-14:45 in het Stedelijk Museum Alkmaar in het kader van Maria Tesselschade’s Huwelijksfeest
URL:https://lasfera-armoniosa.com/concert/twee-alkmaarse-divas-met-geert-mak/
LOCATION:Stedelijk Museum Alkmaar\, Canadaplein 1\, Alkmaar\, NH\, 1811 KE\, Netherlands
ATTACH;FMTTYPE=image/jpeg:https://lasfera-armoniosa.com/wp-content/uploads/2023/11/Geert-Mak.jpeg
ORGANIZER;CN="La Sfera Armoniosa":MAILTO:office@lasfera-armoniosa.com
END:VEVENT
BEGIN:VEVENT
DTSTART;TZID=UTC:20231126T133000
DTEND;TZID=UTC:20231126T210000
DTSTAMP:20260419T205427
CREATED:20231105T111617Z
LAST-MODIFIED:20231109T205550Z
UID:963-1701005400-1701032400@lasfera-armoniosa.com
SUMMARY:Maria Tesselschade's Huwelijksfeest
DESCRIPTION:Op 26 november aanstaande vindt in Alkmaar Maria Tesselschade’s Huwelijksfeest opnieuw plaats. 400 jaar na haar huwelijk met Allard Crombach is er een feestelijke dag rond kunstenares Maria Tesselschade met activiteiten in het Stedelijk Museum Alkmaar\, de naastgelegen bibliotheek en\, op een steenworp afstand\, in de Grote of St.Laurenskerk. \n\nTwee Alkmaarse Diva’s – met Geert Mak & La Sfera Armoniosa\nGeert Mak en La Sfera Armoniosa gaan vier eeuwen terug en vertellen het verhaal van Maria Tesselschade en haar goede vriendin Francisca Duarte. Maria en Francisca hadden een heel andere achtergrond maar kwamen beiden uit welgestelde en kunstminnende families. Dankzij Tesselschade kwam Duarte ook in contact met P.C. Hooft\, Caspar Barlaeus en andere muzikale en literaire talenten van haar tijd. Beide vrouwen hadden een groot muzikaal talent en traden ook gezamenlijk op. \nZangeressen Channa Malkin en Monica Monteiro zingen\, net als Maria en Francisca 4 eeuwen geleden\, samen muziek van verschillende componisten uit de barok. \nHet concert met Geert Mak en La Sfera Armoniosa vindt plaats van 13:30-14:45 in het Stedelijk Museum Alkmaar op 26 november. Toegang is gratis voor museumbezoekers. Reserveer wel tevoren. \nVoorstelling – Vrouwkje Tuinman\nSpeciaal voor Maria Tesselschade’s Huwelijksfeest duikt dichter Vrouwkje Tuinman in het leven en werk van haar collega van vier eeuwen terug. Gedichten over leven\, liefde en dood. Tijdloze thema’s die ertoe uitnodigen om ze in te bedden in Tuinman eigen poezie. \nOok vertelt ze over de positie die Tesselschade had in het literaire leven en dan met name binnen de Muiderkring\, waar iedereen elkaars teksten las\, ‘betuttelde’ (in positieve zin) en zich vervolgens liet inspireren tot nieuw werk. Hoe gaat dat in de 21ste eeuw? \nVrouwkje Tuinman (1974) schrijft romans\, dichtbundels en teksten voor muziektheater. Ze won onder meer de Grote Poezieprijs 2020 en de C.C.S. Croneprijs. \nDe voorstelling vindt plaats op 26 november in de Centrale bibliotheek in Alkmaar en begint om 15:30 en eindigt rond 16:30. Je kunt een gratis plek reserveren bij de Bibliotheek Kennemerwaard via https://kennemerwaard.op-shop.nl/1258/maria-tesselschades-huwelijksfeest \nZero Dance Theatre & La Sfera Armoniosa\nDenden Karadeniz\, choreograaf\, artistiek leider en oprichter van Zero Dance Theatre\, en La Sfera Armoniosa gaan de samenwerking aan in een feestelijke voorstelling met contemporary urban dance en dansmuziek uit de tijd van Maria Tesselschade’s Huwelijk. De voorstelling vindt plaats in de Grote Kerk in Alkmaar. \n \nKaarten voor deze feestelijke voorstelling van Zero Dance Theatre en La Sfera Armoniosa zijn te bestellen via Theater TAQA De Vest.
URL:https://lasfera-armoniosa.com/concert/maria-tesselschades-huwelijksfeest/
ATTACH;FMTTYPE=image/png:https://lasfera-armoniosa.com/wp-content/uploads/2023/11/Schermafbeelding-2023-11-09-om-17.09.02.png
END:VEVENT
BEGIN:VEVENT
DTSTART;TZID=UTC:20231126T200000
DTEND;TZID=UTC:20231126T220000
DTSTAMP:20260419T205427
CREATED:20230828T130324Z
LAST-MODIFIED:20231105T111416Z
UID:901-1701028800-1701036000@lasfera-armoniosa.com
SUMMARY:La Sfera Armoniosa & Zero Dance Theatre -
DESCRIPTION:De bekende Alkmaarse choreograaf/danser Denden Karadeniz en luitist/dirigent Mike Fentross maken voor hun gezelschappen Zero Dance Theatre en barokensemble La Sfera Armoniosa een gezamenlijke\, feestelijke voorstelling ter ere van de bruiloft van kunstenaar Maria Tesselschade en Alkmaarder Allart Jansz. Crombalch. \nPraetorius meets Urban Contemporary Dance\nDe muze van de dans ‘Terpsichore’ inspireerde de Duitse componist Michael Praetorius in 1612 tot het verzamelen\, arrangeren en publiceren van meer dan 300 dansmelodieën. Denden Karadeniz\, choreograaf\, danser en leider van Zero Dance Company\, werd op zijn beurt in 2021 weer geïnspireerd door de muziek van Praetorius en door de reis terug in de tijd. \nPraetorius’ bundel bestaat uit een bonte verzameling van dansmelodieën uit Frankrijk\, Duitsland\, Spanje\, Engeland\, Italië en Nederland. De melodieën werden door Praetorius geharmoniseerd en door Oude Muziek specialist\, luitist en dirigent Mike Fentross van verschillende orkestkleuren voorzien. \nZero Dance Company bestaat uit dansers van verschillende dansculturen\, van breakdance tot modern dance en popping. Karadeniz creëert in zijn choreografie visuele harmonieën met de verschillende culturele elementen en gaat tevens een fascinerende dialoog aan met de muziek van 400 jaar geleden. \nDe musici bevinden zich op het podium en zullen een onderdeel worden van het fysieke bewegingsidioom van Zero Dance Company. Daarmee ontstaat er niet alleen een schitterend toneelbeeld maar ook een spannende dialoog tussen dansers en musici. Het is de machtige godin Terpsichore die al deze culturen van verschillende landen\, disciplines\, stijlen en eeuwen met elkaar verbindt. \nKom precies 400 jaar later naar deze unieke voorstelling gebaseerd op wederzijde inspiratie tussen dans en muziek en de bijzondere persoonlijkheid van de 17de eeuwse vrijgevochten Maria Tesselschade. Een voorstelling die verwondert\, verbindt en de tijd overstijgt!
URL:https://lasfera-armoniosa.com/concert/la-sfera-armoniosa-zero-dance-theatre/
LOCATION:Grote Kerk Alkmaar\, Koorstraat 2\, Alkmaar\, NH\, 1811 GP\, Netherlands
ATTACH;FMTTYPE=image/jpeg:https://lasfera-armoniosa.com/wp-content/uploads/2023/07/ZDT-1.jpg
ORGANIZER;CN="Grote Kerk Alkmaar":MAILTO:info@grotekerk-alkmaar.nl
END:VEVENT
END:VCALENDAR