BEGIN:VCALENDAR
VERSION:2.0
PRODID:-//LA SFERA ARMONIOSA - ECPv6.15.11//NONSGML v1.0//EN
CALSCALE:GREGORIAN
METHOD:PUBLISH
X-WR-CALNAME:LA SFERA ARMONIOSA
X-ORIGINAL-URL:https://lasfera-armoniosa.com
X-WR-CALDESC:Events for LA SFERA ARMONIOSA
REFRESH-INTERVAL;VALUE=DURATION:PT1H
X-Robots-Tag:noindex
X-PUBLISHED-TTL:PT1H
BEGIN:VTIMEZONE
TZID:UTC
BEGIN:STANDARD
TZOFFSETFROM:+0000
TZOFFSETTO:+0000
TZNAME:UTC
DTSTART:20210101T000000
END:STANDARD
END:VTIMEZONE
BEGIN:VEVENT
DTSTART;TZID=UTC:20230107T200000
DTEND;TZID=UTC:20230107T213000
DTSTAMP:20260421T211544
CREATED:20220611T133825Z
LAST-MODIFIED:20220927T091918Z
UID:563-1673121600-1673127000@lasfera-armoniosa.com
SUMMARY:Monteverdi en zijn tijdgenoten
DESCRIPTION:Op 7 januari geven La Sfera Armoniosa en sopraan Johannette Zomer een concert met muziek van Monteverdi en zijn tijdgenoten. \nDe geniale Claudio Monteverdi was een dwarse componist in zijn tijd maar werd al snel erkend als groot componist. Zijn muziek markeert de zeer bijzondere overgang tussen Renaissance en barok met muziek vol temperament en geraffineerde lyriek. \nBij ensemble La Sfera Armoniosa en sterzangeres Johannette Zomer is deze muziek in uitstekende handen. Beiden behoren zij tot de topspecialisten in het barokrepertoire. Opus Klassiek schreef “Mike Fentross is one of the best theorbo players in the world” en Opera Nederland “Bij Johannette Zomer is emotie en esthetiek gegarandeerd.” \n  \nKaarten bestellen:\nhttps://www.klassiekemuziek.nl/e/16614/la-sfera-armoniosa-johannette-zomer-monteverdi-en-zijn-tijdgenoten \n  \nAbonnement voor de serie Oude Muziek (5 concerten) bestellen:\nhttps://www.klassiekemuziek.nl/e/16625/tickets
URL:https://lasfera-armoniosa.com/concert/monteverdi-en-zijn-tijdgenoten-2/
LOCATION:Lutherse Kerk\, Oudegracht 187\, Alkmaar\, NH\, 1811 CD\, Netherlands
ATTACH;FMTTYPE=image/jpeg:https://lasfera-armoniosa.com/wp-content/uploads/2022/06/johannette-Zomer-foto-olivier-middendorp.jpg
ORGANIZER;CN="La Sfera Armoniosa":MAILTO:office@lasfera-armoniosa.com
END:VEVENT
BEGIN:VEVENT
DTSTART;TZID=UTC:20221226T150000
DTEND;TZID=UTC:20221226T163000
DTSTAMP:20260421T211544
CREATED:20220611T121856Z
LAST-MODIFIED:20220704T112241Z
UID:531-1672066800-1672072200@lasfera-armoniosa.com
SUMMARY:Stelle Lucenti
DESCRIPTION:Aan de hoven van de grote stadstaten (zoals Ferrara\, Florence\, Mantua\, Venetië) en\nde pauselijke residentie te Rome zijn aan het einde van de 16de eeuw vele musici\nwerkzaam. De hertog van Ferrara heeft een aantal sopranen in dienst en noemt hen\nConcerto delle Donne. Zij zijn de trots van het hof en treden op in speciale\nconcerten die alleen door hooggeplaatste hoflieden en belangrijke gasten worden\nbijgewoond. Aan het begin van de 17e eeuw hebben alle belangrijke Italiaanse\nhoven soortgelijke culturele ambassadrices in dienst om belangrijke evenementen\nextra cachet te geven. \nMet Keren Motseri sopraan\, Channa Malkin sopraan\, Emma Huijsser harp en\nblokfluit\, Paulina van Laarhoven viola da gamba en lirone\, Mike Fentross theorbe en\nbarokgitaar \nDe kaartverkoop start binnenkort.
URL:https://lasfera-armoniosa.com/concert/stelle-lucenti/
LOCATION:Ruïnekerk\, Raadhuisstraat 1\, Bergen\, NH\, 1861 LK\, Netherlands
ORGANIZER;CN="Ruinekerk":MAILTO:info@ruinekerk.nl
END:VEVENT
BEGIN:VEVENT
DTSTART;TZID=UTC:20221210T200000
DTEND;TZID=UTC:20221210T213000
DTSTAMP:20260421T211544
CREATED:20220611T125428Z
LAST-MODIFIED:20220927T091832Z
UID:549-1670702400-1670707800@lasfera-armoniosa.com
SUMMARY:Kerstliederen uit 7 landen en 7 eeuwen
DESCRIPTION:La Sfera Armoniosa geeft in de decembermaand opnieuw een prachtig concert in muzikale kerstsferen. Dit jaar is Kadri Tegelmann uitgenodigd voor een veelzijdige programma met kerstliederen uit 7 landen en 7 eeuwen. \nDe Estse mezzo-sopraan Tegelmann heeft een bijzondere voorliefde voor oude muziek en barok en werkte eerder succesvol samen met La Sfera Armoniosa. Daarnaast treedt Tegelmann ook veel op met twintigste eeuwse muziek o.a. het Holland Festival\, Theaterfestival Almagro\, Gaudeamus Festival en Operadagen Rotterdam. \nBehalve Kadri Tegelmann horen we dit kerstconcert Emma Huijsser (harp en blokfluit)\, Paulina van Laarhoven (viola da gamba)\, Peter Prommel (percussie) en Mike Fentross (theorbe en vihuela) \n  \nKaarten:\nhttps://www.klassiekemuziek.nl/e/16613/la-sfera-armoniosa-kadri-tegelmann-kerstliederen-uit-7-landen-en-7-eeuwen \n  \nAbonnement voor de serie Oude Muziek (5 concerten) bestellen:\nhttps://www.klassiekemuziek.nl/e/16625/tickets
URL:https://lasfera-armoniosa.com/concert/kerstconcert-kadri-tegelmann-la-sfera-armoniosa/
LOCATION:Lutherse Kerk\, Oudegracht 187\, Alkmaar\, NH\, 1811 CD\, Netherlands
ATTACH;FMTTYPE=image/jpeg:https://lasfera-armoniosa.com/wp-content/uploads/2022/06/Kadri-Tegelmann.jpg
ORGANIZER;CN="La Sfera Armoniosa":MAILTO:office@lasfera-armoniosa.com
END:VEVENT
BEGIN:VEVENT
DTSTART;TZID=UTC:20221119T200000
DTEND;TZID=UTC:20221119T213000
DTSTAMP:20260421T211544
CREATED:20220611T122415Z
LAST-MODIFIED:20220927T091744Z
UID:537-1668888000-1668893400@lasfera-armoniosa.com
SUMMARY:Sterke vrouwen in de zeventiende eeuw
DESCRIPTION:La Sfera Armoniosa speelt een bijzonder programma met composities van de vrouwelijke componisten Barbara Strozzi en Francesca Caccini\, en met gedichten van Veronica Franco. Zij worden gezongen en voorgedragen door wereldberoemde en veelzijdige Amerikaans-Nederlandse sopraan Claron McFadden. \nVeronica Franco was één van de meest prominente courtisanes van Venetië. Zij had zelfs een verhouding met Hendrik III koning van Frankrijk en Polen. Ze publiceerde twee dichtbundels. \nBarbara Strozzi was de dochter van dichter Giulio Strozzi\, wiens teksten door o.a. Monteverdi werd getoonzet. Barbara Strozzi kreeg onder andere les van Francesco Cavalli en publiceerde gedurende haar leven 8 collecties liederen – met in totaal maar liefst 125 vocale stukken. \nFrancesca Caccini kwam uit een toonaangevende muzikale familie en was dichteres\, luitist\, zangeres en componist. Caccini schreef zeker 5 opera’s waarvan er slechts één bewaard is gebleven\, daarnaast kennen we van haar Il primo libro delle musiche\, een muziekboek met heel diverse muziek voor kleinere bezettingen. \nClaron McFadden (sopraan)\, Paulina van Laarhoven (viola da gamba)\, Mike Fentross (theorbe en barokgitaar) \n  \nKaarten bestellen:\nhttps://www.klassiekemuziek.nl/e/16612/la-sfera-armoniosa-claron-mcfadden-sterke-vrouwen-in-de-zeventiende-eeuw \n  \nAbonnement voor de serie Oude Muziek (5 concerten) bestellen:\nhttps://www.klassiekemuziek.nl/e/16625/tickets
URL:https://lasfera-armoniosa.com/concert/sterke-vrouwen-in-de-zeventiende-eeuw/
LOCATION:Lutherse Kerk\, Oudegracht 187\, Alkmaar\, NH\, 1811 CD\, Netherlands
ATTACH;FMTTYPE=image/jpeg:https://lasfera-armoniosa.com/wp-content/uploads/2022/06/Claron-McFadden-3-credits-Erik-de-Jong.jpg
ORGANIZER;CN="La Sfera Armoniosa":MAILTO:office@lasfera-armoniosa.com
END:VEVENT
BEGIN:VEVENT
DTSTART;TZID=UTC:20221030T151500
DTEND;TZID=UTC:20221030T164500
DTSTAMP:20260421T211544
CREATED:20220523T094700Z
LAST-MODIFIED:20220523T102730Z
UID:487-1667142900-1667148300@lasfera-armoniosa.com
SUMMARY:Graaf Unico van Wassenaer - de mysterieuze componist
DESCRIPTION:Van Wassenaer’s prachtige Concerti Armonici werden altijd toegeschreven aan Pergolesi of zelfs aan Händel. De componist vermeed namelijk dat zijn naam genoemd werd en dus was er lange tijd twijfel. Het mysterie werd pas 50 jaar geleden opgelost. Toen vond men het manuscript van de concerti in kasteel Twickel\, het kasteel van Graaf Unico van Wassenaer. \nLa Sfera Armoniosa brengt onder leiding van artistiek leider Mike Fentross de Concerti Armonici tot leven in een concert met schitterende Nederlandse barokmuziek. \nHet concert in Alkmaar wordt opgenomen voor onze bijzondere album-serie Hollandse Meesters.
URL:https://lasfera-armoniosa.com/concert/graaf-unico-van-wassenaer-de-mysterieuze-componist/
LOCATION:Theater De Vest\, Canadaplein 2\, Alkmaar\, NH\, 1811 KE\, Netherlands
ATTACH;FMTTYPE=image/jpeg:https://lasfera-armoniosa.com/wp-content/uploads/2022/05/WassenaerMike-l.jpg
END:VEVENT
BEGIN:VEVENT
DTSTART;TZID=UTC:20221009T153000
DTEND;TZID=UTC:20221009T170000
DTSTAMP:20260421T211544
CREATED:20220921T095253Z
LAST-MODIFIED:20220922T143612Z
UID:606-1665329400-1665334800@lasfera-armoniosa.com
SUMMARY:Ombre de mon Amant
DESCRIPTION:Als je ooit bewijs nodig hebt dat muziek echt een internationale taal is\, dan is dit het wel. Een Libanese zangeres\, een barokmuzikant en een jazzmuzikant verenigd in hun liefde voor mooie liederen die hen in staat stellen en inspireren om op hun best te zingen en te spelen. \nMet Rima Khcheich spelen Maarten Ornstein en Mike Fentross liederen uit het Westen en uit het Oosten\, zowel oud als nieuw. Muziek van Dawud Hosni\, Michel Lambert\, Umm Kutlhum en Constantijn Huygens gaan naast elkaar\, met nieuwe teksten in het Arabisch op 17e eeuwse barokliederen en vernieuwende arrangementen voor de klassieke Arabische liederen. Met deze gedurfde zet zetten deze drie musici de toon in het overschrijden van de grenzen tussen jazz\, klassieke Europese en Arabische muziek. \nBegin november ontvangen Maarten Ornstein en Mike Fentross de Willem Breukerprijs voor hun grensverleggende en inventieve manier van muziekmaken. \n“Het duo Maarten Ornstein-Mike Fentross weet het traditionele in de eigen tijd te plaatsen door oude en nieuwe muziekculturen uit verschillende delen van de wereld subtiel te mengen. Zij stapelen verrassing op verrassing en verkennen de grenzen tussen West-Europese klassieke muziek\, Baltische folklore en improvisatie.” \nHet album ‘Ombre de Mon Amant’ werd in april 2018 opgenomen voor Zefir Records\, en begin 2019 uitgebracht. \nRima Khcheich zang\, Maarten Ornstein basklarinet\, Mike Fentross vihuela en theorbe
URL:https://lasfera-armoniosa.com/concert/ombre-de-mon-amant-2/
LOCATION:De Waalse Hervormde Kerk Den Haag (Eglise Wallonne de La Haye)\, Noordeinde 25\, Den Haag\, ZH\, 2514GB\, Netherlands
ATTACH;FMTTYPE=image/jpeg:https://lasfera-armoniosa.com/wp-content/uploads/2022/06/maarten-ornstein-mike-fentross-rima-khcheich-s1920x1080-q80.jpeg
ORGANIZER;CN="Waalse Kerk":MAILTO:info@dewaalsekerk.nl
END:VEVENT
BEGIN:VEVENT
DTSTART;TZID=UTC:20221007T200000
DTEND;TZID=UTC:20221007T211500
DTSTAMP:20260421T211544
CREATED:20220611T125118Z
LAST-MODIFIED:20220927T091709Z
UID:546-1665172800-1665177300@lasfera-armoniosa.com
SUMMARY:Ombre de mon Amant
DESCRIPTION:Als je ooit bewijs nodig hebt dat muziek echt een internationale taal is\, dan is dit het wel. Een Libanese zangeres\, een barokmuzikant en een jazzmuzikant verenigd in hun liefde voor mooie liederen die hen in staat stellen en inspireren om op hun best te zingen en te spelen. \nMet Rima Khcheich spelen Maarten Ornstein (basklarinet) en Mike Fentross  (vihuela en theorbe) liederen uit het Westen en uit het Oosten\, zowel oud als nieuw. Muziek van Dawud Hosni\, Michel Lambert\, Umm Kutlhum en Constantijn Huygens gaan naast elkaar\, met nieuwe teksten in het Arabisch op 17e eeuwse barokliederen en vernieuwende arrangementen voor de klassieke Arabische liederen. Met deze gedurfde zet zetten deze drie musici de toon in het overschrijden van de grenzen tussen jazz\, klassieke Europese en Arabische muziek. \nBegin november ontvangen Maarten Ornstein en Mike Fentross de Willem Breukerprijs voor hun grensverleggende en inventieve manier van muziekmaken.  \n“Het duo Maarten Ornstein-Mike Fentross weet het traditionele in de eigen tijd te plaatsen door oude en nieuwe muziekculturen uit verschillende delen van de wereld subtiel te mengen. Zij stapelen verrassing op verrassing en verkennen de grenzen tussen West-Europese klassieke muziek\, Baltische folklore en improvisatie.” \nHet album ‘Ombre de Mon Amant’ werd in april 2018 opgenomen voor Zefir Records\, en begin 2019 uitgebracht. \n\nKaarten bestellen:\nhttps://www.klassiekemuziek.nl/e/16610/la-sfera-armoniosa-ombre-de-mon-amant \nAbonnement voor de serie Oude Muziek (5 concerten) bestellen:\nhttps://www.klassiekemuziek.nl/e/16625/tickets
URL:https://lasfera-armoniosa.com/concert/ombre-de-mon-amant-alkmaar/
LOCATION:Lutherse Kerk\, Oudegracht 187\, Alkmaar\, NH\, 1811 CD\, Netherlands
ATTACH;FMTTYPE=image/jpeg:https://lasfera-armoniosa.com/wp-content/uploads/2022/06/maarten-ornstein-mike-fentross-rima-khcheich-s1920x1080-q80.jpeg
ORGANIZER;CN="La Sfera Armoniosa":MAILTO:office@lasfera-armoniosa.com
END:VEVENT
BEGIN:VEVENT
DTSTART;TZID=UTC:20221006T080000
DTEND;TZID=UTC:20221006T170000
DTSTAMP:20260421T211544
CREATED:20220611T113649Z
LAST-MODIFIED:20220711T101159Z
UID:527-1665043200-1665075600@lasfera-armoniosa.com
SUMMARY:Stedelijk Museum Alkmaar - 80-jarige oorlog/verzoening
DESCRIPTION:
URL:https://lasfera-armoniosa.com/concert/stedelijk-museum-alkmaar-80-jarige-oorlog-verzoening/
LOCATION:Stedelijk Museum Alkmaar\, Canadaplein 1\, Alkmaar\, NH\, 1811 KE\, Netherlands
END:VEVENT
BEGIN:VEVENT
DTSTART;TZID=UTC:20221005T190000
DTEND;TZID=UTC:20221005T210000
DTSTAMP:20260421T211544
CREATED:20220921T093947Z
LAST-MODIFIED:20220929T113745Z
UID:602-1664996400-1665003600@lasfera-armoniosa.com
SUMMARY:Ombre de mon Amant
DESCRIPTION:Als je ooit bewijs nodig hebt dat muziek echt een internationale taal is\, dan is dit het wel. Een Libanese zangeres\, een barokmuzikant en een jazzmuzikant verenigd in hun liefde voor mooie liederen die hen in staat stellen en inspireren om op hun best te zingen en te spelen. \nMet Rima Khcheich spelen Maarten Ornstein en Mike Fentross liederen uit het Westen en uit het Oosten\, zowel oud als nieuw. Muziek van Dawud Hosni\, Michel Lambert\, Umm Kutlhum en Constantijn Huygens gaan naast elkaar\, met nieuwe teksten in het Arabisch op 17e eeuwse barokliederen en vernieuwende arrangementen voor de klassieke Arabische liederen. Met deze gedurfde zet zetten deze drie musici de toon in het overschrijden van de grenzen tussen jazz\, klassieke Europese en Arabische muziek. \nBegin november ontvangen Maarten Ornstein en Mike Fentross de Willem Breukerprijs voor hun grensverleggende en inventieve manier van muziekmaken. \n“Het duo Maarten Ornstein-Mike Fentross weet het traditionele in de eigen tijd te plaatsen door oude en nieuwe muziekculturen uit verschillende delen van de wereld subtiel te mengen. Zij stapelen verrassing op verrassing en verkennen de grenzen tussen West-Europese klassieke muziek\, Baltische folklore en improvisatie.” \nHet album ‘Ombre de Mon Amant’ werd in april 2018 opgenomen voor Zefir Records\, en begin 2019 uitgebracht. \nRima Khcheich zang\, Maarten Ornstein basklarinet\, Mike Fentross vihuela en theorbe
URL:https://lasfera-armoniosa.com/concert/ombre-de-mon-amant/
LOCATION:De Stag\, Langestreek 23\, Schiermonnikoog\, FR\, 9166 LA\, Netherlands
ATTACH;FMTTYPE=image/jpeg:https://lasfera-armoniosa.com/wp-content/uploads/2022/06/maarten-ornstein-mike-fentross-rima-khcheich-s1920x1080-q80.jpeg
ORGANIZER;CN="Schiermonnikoogfestival":MAILTO:info@schiermonnikoogfestival.nl
END:VEVENT
BEGIN:VEVENT
DTSTART;TZID=UTC:20220917T200000
DTEND;TZID=UTC:20220917T213000
DTSTAMP:20260421T211544
CREATED:20220611T113241Z
LAST-MODIFIED:20220711T100951Z
UID:500-1663444800-1663450200@lasfera-armoniosa.com
SUMMARY:Festival Muze van Zuid - Channa Malkin & La Sfera Armoniosa
DESCRIPTION:Op zaterdag 17 september speelt La Sfera Armoniosa met zangeres Channa Malkin op het festival Muze van Zuid een barokprogramma geïnspireerd door de soundscape van Amsterdam in de tijd van Sweelinck\, diens zoon\, Vondel en Spinoza. Channa Malkin zingt meeslepende Ladino-liederen. \nChanna Malkin (sopraan) en La Sfera Armoniosa: Emma Huijsser (harp & blokfluit) Paulina van Laarhoven (vihuela d’arco) en Mike Fentross (barokgitaar & vihuela da mano)
URL:https://lasfera-armoniosa.com/concert/festival-muze-van-zuid-channa-malkin-la-sfera-armoniosa/
LOCATION:Vondelkerk\, Vondelstraat 120\, Amsterdam\, NH\, 1054 GS\, Netherlands
ATTACH;FMTTYPE=image/jpeg:https://lasfera-armoniosa.com/wp-content/uploads/2022/06/channamalkin-16x9-1.jpg
ORGANIZER;CN="Muze van Zuid":MAILTO:info@muzevanzuid.nl
END:VEVENT
BEGIN:VEVENT
DTSTART;TZID=UTC:20220904T133000
DTEND;TZID=UTC:20220904T180000
DTSTAMP:20260421T211544
CREATED:20220611T110233Z
LAST-MODIFIED:20220904T070424Z
UID:519-1662298200-1662314400@lasfera-armoniosa.com
SUMMARY:Hofjesconcerten Alkmaar
DESCRIPTION:Op zondag 4 september 2022 vinden in Alkmaar weer de Hofjesconcerten plaats. In een vijftal hofjes in de historische binnenstad spelen musici uit binnen- en buitenland een divers programma. Het publiek wordt van hofje naar hofje begeleid door gidsen van de Historische Vereniging Alkmaar (HVA) en maakt kennis met de verhalen van Alkmaar. \nArtistiek leider Mike Fentross nodigt dit jaar opnieuw internationale muzikale vrienden om concerten te geven voor Alkmaarders en gasten van de stad. In diverse hofjes is heel verschillende muziek te horen die een samen een bijzonder en prachtig programma opleveren. \n5 bijzondere concerten op 5 bijzondere plaatsen\nfoto: Annelies van der Vegt\nIn het Wildemanshofje spelen oprichters van La Sfera Armoniosa\, luitist/dirigent Mike Fentross en Paulina van Laarhoven (viola da gamba) met Falco van Loon\, een veelzijdig zanger die binnen en buiten Nederland geprezen wordt om zijn uitvoeringen van barokrepertoire.  \nIn het intieme Hofje van Achten is Indiase muziek te horen met Niti Biswas (tabla) en Klaus Falschlunger (sitar). Met sterke roots in respectievelijk de Indiase klassieke muziek en rockmuziek creëren deze musici bijzondere ontmoetingspunten in grenzeloze muziek.  \nfoto: Hans Hermans\nEven verderop in de Hof van Sonoy spelen klarinettist Maarten Ornstein en bassist Tony Overwater. Al meer dan 3 decennia spelen Ornstein en Overwater in heel diverse bezettingen overal ter wereld en ontwikkelden ze vanuit de jazz een eigen muzikale handtekening met links naar muziek van over de hele wereld \nBarokmuziek is ook te horen in de hof van Provenhuis Bijlevelt. De jonge talentvolle Italiaanse sopraan Elisa de Toffol en de harpiste Emma Huijsser spelen schitterende liederen uit de 17de eeuw  \nSantiago Cimadevilla\nIn het Hofje van Paling en Van Foreest horen we muziek uit Zuid-Amerika. Het Argentijns repertoire wordt uitgevoerd door twee heel veelzijdige musici: celliste en zangeres Ilein Bermudéz en meesterbandeonist en componist Santiago Cimadevilla. \nStadswandelingen en concerten: 5 routes\nEr zijn 5 routes die het publiek van de Hofjesconcerten kan volgen. De gidsen van de Historische Vereniging Alkmaar voeren je langs de mooiste Alkmaarse plekje en vertellen de verhalen die erbij horen. \nNiti Biswas\nDe wandelingen starten om 13:30 uur. Na de verschillende routes vindt een groots gezamenlijk slotconcert plaats om 17:15 uur in Hof van Sonoy met alle musici en deelnemers aan de stadswandelingen. \n  \n  \nStartpunten van de routes\n\nDe Hofjesconcerten beginnen om 13:30 maar wees iets eerder op het startpunt van uw route.\nRoute 1: Huis van Achten (Lombardsteeg 23-35\nRoute 2: Hof van Sonoy (Hof van Sonoy 1)\nRoute 3: Provenhuis Bijlevelt (Koningsweg 83)\nRoute 4: Paling en Van Foreest (zevenhuizen 13)\nRoute 5: Wildemanshofje (Oudegracht 45)\n\nKaarten bestellen\nKlik op de route voor informatie en om kaarten te bestellen. \n\nEen mooie route door het historische Alkmaar met barok en Indiase muziek.\nDe stadswandeling voert naar hofjes met jazz\, Indiase en barokmuziek\nTussen de wandelingen hoor je diverse muziek uit India\, Argentinië en de barok.\nDrie concerten en routes met Argentijnse muziek\, barok en jazz.\nOok weer muziek uit de barok\, jazz en Argentijnse muziek met van hofje naar hofje een historische wandeling. (Uitverkocht)\n\n 
URL:https://lasfera-armoniosa.com/concert/hofjesconcerten/
LOCATION:Alkmaar\, NH\, Netherlands
ATTACH;FMTTYPE=image/jpeg:https://lasfera-armoniosa.com/wp-content/uploads/2022/06/wildemanshofje.jpeg
ORGANIZER;CN="La Sfera Armoniosa":MAILTO:office@lasfera-armoniosa.com
END:VEVENT
BEGIN:VEVENT
DTSTART;TZID=UTC:20220526T200000
DTEND;TZID=UTC:20220526T220000
DTSTAMP:20260421T211544
CREATED:20220406T125705Z
LAST-MODIFIED:20220504T082040Z
UID:399-1653595200-1653602400@lasfera-armoniosa.com
SUMMARY:Hillary Summers\, Mike Fentross\, Maarten Ornstein & Dudok Quartet – I will give my love an apple
DESCRIPTION:Dit is het vierde project van het zeer succesvolle duo dat Mike Fentross\, artistiek leider van La Sfera Armoniosa\, met basclarinettist Maarten Ornstein in 2013 oprichtte. Na Libanon en Estland richten zij hun pijlen dit keer op Engeland.  \nMet Hillary Summers (mezzosopraan)\, Maarten Ornstein (basklarinet) Mike Fentross (theorbo en vihuela) en het Dudok strijkkwartet \nN.B. Dit concert is besloten en niet vrij toegankelijk.
URL:https://lasfera-armoniosa.com/concert/i-will-give-my-love-an-apple/
LOCATION:Splendor\, Nieuwe Uilenburgerstraat 116\, Amsterdam\, NH\, 1011 LX\, Netherlands
END:VEVENT
BEGIN:VEVENT
DTSTART;TZID=UTC:20220515T150000
DTEND;TZID=UTC:20220515T163000
DTSTAMP:20260421T211544
CREATED:20220327T191045Z
LAST-MODIFIED:20220331T052806Z
UID:48-1652626800-1652632200@lasfera-armoniosa.com
SUMMARY:La Sfera Armoniosa & Johannette Zomer - Monteverdi's verjaardag
DESCRIPTION:De muziek in dit programma van La Sfera Armoniosa met topsoliste Johannette Zomer is afkomstig uit de tijd rond de eeuwwisseling van de 16e naar de 17e eeuw. Het is de overgang van de Renaissance naar de Barok\, een muzikaal interessante en ook roerige tijd!  \nClaudio Monteverdi is altijd beschouwd als de grootste meester in deze periode. Monteverdi groeide muzikaal op in Cremona\, stad van Amati\, Stradivarius en Guarneri\, maar kwam uiteindelijke terecht in Venetië. Daar maakte hij in drie decennia de prachtigste muziek. Vandaag viert La Sfera Armoniosa Monteverdi’s verjaardag met zijn muziek en die van tijdgenoten. \nMet Johannette Zomer (sopraan)\, Paulina van Laarhoven (viola da gamba) en Mike Fentross (theorbe en barokgitaar)
URL:https://lasfera-armoniosa.com/concert/la-sfera-armoniosa-johannette-zommer/
LOCATION:Lutherse Kerk\, Oudegracht 187\, Alkmaar\, NH\, 1811 CD\, Netherlands
ATTACH;FMTTYPE=image/jpeg:https://lasfera-armoniosa.com/wp-content/uploads/2022/03/zomer-fentross-bw-1.jpg
ORGANIZER;CN="La Sfera Armoniosa":MAILTO:office@lasfera-armoniosa.com
END:VEVENT
BEGIN:VEVENT
DTSTART;TZID=UTC:20220504T200000
DTEND;TZID=UTC:20220504T220000
DTSTAMP:20260421T211544
CREATED:20220328T075401Z
LAST-MODIFIED:20220425T162212Z
UID:141-1651694400-1651701600@lasfera-armoniosa.com
SUMMARY:Mike Fentross\, Maarten Ornstein & Dudok Quartet - 4 mei concert
DESCRIPTION:Dit jaar is het voor het eerst sinds 2019 dat we weer samen de doden kunnen herdenken. Net als in 2018 en ’19 organiseert Splendor op de avond van de Dodenherdenking een concert. Op 4 mei spelen het Dudok Kwartet\, Mike Fentross en Maarten Ornstein muziek van Bach\, Messiaen\, Shostakovich\, Marin Marais en Dowland. \nDe opbrengst van dit concert komt geheel ten goede aan het leggen van Stolpersteine in de Nieuwe Uilenburgerstraat\, van waaruit in de oorlog vele Joodse burgers worden gedeporteerd naar de vernietigingskampen. U kunt voor of na het concert hiervoor een (extra) donatie doen. \nMike Fentross theorbe\nMaarten Ornstein basklarinet\nDudok Kwartet:\nJudith van Driel\, Marleen Wester viool\,\nMarie-Louise de Jong altviool\,\nDavid Faber cello
URL:https://lasfera-armoniosa.com/concert/mike-fentross-maarten-ornstein-dudok-quartet-4-mei-concert/
LOCATION:Splendor\, Nieuwe Uilenburgerstraat 116\, Amsterdam\, NH\, 1011 LX\, Netherlands
ORGANIZER;CN="Splendor":MAILTO:info@splendoramsterdam.com
END:VEVENT
END:VCALENDAR