BEGIN:VCALENDAR
VERSION:2.0
PRODID:-//LA SFERA ARMONIOSA - ECPv6.15.11//NONSGML v1.0//EN
CALSCALE:GREGORIAN
METHOD:PUBLISH
X-WR-CALNAME:LA SFERA ARMONIOSA
X-ORIGINAL-URL:https://lasfera-armoniosa.com
X-WR-CALDESC:Events for LA SFERA ARMONIOSA
REFRESH-INTERVAL;VALUE=DURATION:PT1H
X-Robots-Tag:noindex
X-PUBLISHED-TTL:PT1H
BEGIN:VTIMEZONE
TZID:UTC
BEGIN:STANDARD
TZOFFSETFROM:+0000
TZOFFSETTO:+0000
TZNAME:UTC
DTSTART:20210101T000000
END:STANDARD
END:VTIMEZONE
BEGIN:VEVENT
DTSTART;TZID=UTC:20220504T200000
DTEND;TZID=UTC:20220504T220000
DTSTAMP:20260422T035848
CREATED:20220328T075401Z
LAST-MODIFIED:20220425T162212Z
UID:141-1651694400-1651701600@lasfera-armoniosa.com
SUMMARY:Mike Fentross\, Maarten Ornstein & Dudok Quartet - 4 mei concert
DESCRIPTION:Dit jaar is het voor het eerst sinds 2019 dat we weer samen de doden kunnen herdenken. Net als in 2018 en ’19 organiseert Splendor op de avond van de Dodenherdenking een concert. Op 4 mei spelen het Dudok Kwartet\, Mike Fentross en Maarten Ornstein muziek van Bach\, Messiaen\, Shostakovich\, Marin Marais en Dowland. \nDe opbrengst van dit concert komt geheel ten goede aan het leggen van Stolpersteine in de Nieuwe Uilenburgerstraat\, van waaruit in de oorlog vele Joodse burgers worden gedeporteerd naar de vernietigingskampen. U kunt voor of na het concert hiervoor een (extra) donatie doen. \nMike Fentross theorbe\nMaarten Ornstein basklarinet\nDudok Kwartet:\nJudith van Driel\, Marleen Wester viool\,\nMarie-Louise de Jong altviool\,\nDavid Faber cello
URL:https://lasfera-armoniosa.com/concert/mike-fentross-maarten-ornstein-dudok-quartet-4-mei-concert/
LOCATION:Splendor\, Nieuwe Uilenburgerstraat 116\, Amsterdam\, NH\, 1011 LX\, Netherlands
ORGANIZER;CN="Splendor":MAILTO:info@splendoramsterdam.com
END:VEVENT
END:VCALENDAR