BEGIN:VCALENDAR
VERSION:2.0
PRODID:-//LA SFERA ARMONIOSA - ECPv6.15.11//NONSGML v1.0//EN
CALSCALE:GREGORIAN
METHOD:PUBLISH
X-WR-CALNAME:LA SFERA ARMONIOSA
X-ORIGINAL-URL:https://lasfera-armoniosa.com
X-WR-CALDESC:Events for LA SFERA ARMONIOSA
REFRESH-INTERVAL;VALUE=DURATION:PT1H
X-Robots-Tag:noindex
X-PUBLISHED-TTL:PT1H
BEGIN:VTIMEZONE
TZID:Europe/Amsterdam
BEGIN:DAYLIGHT
TZOFFSETFROM:+0100
TZOFFSETTO:+0200
TZNAME:CEST
DTSTART:20250330T010000
END:DAYLIGHT
BEGIN:STANDARD
TZOFFSETFROM:+0200
TZOFFSETTO:+0100
TZNAME:CET
DTSTART:20251026T010000
END:STANDARD
BEGIN:DAYLIGHT
TZOFFSETFROM:+0100
TZOFFSETTO:+0200
TZNAME:CEST
DTSTART:20260329T010000
END:DAYLIGHT
BEGIN:STANDARD
TZOFFSETFROM:+0200
TZOFFSETTO:+0100
TZNAME:CET
DTSTART:20261025T010000
END:STANDARD
BEGIN:DAYLIGHT
TZOFFSETFROM:+0100
TZOFFSETTO:+0200
TZNAME:CEST
DTSTART:20270328T010000
END:DAYLIGHT
BEGIN:STANDARD
TZOFFSETFROM:+0200
TZOFFSETTO:+0100
TZNAME:CET
DTSTART:20271031T010000
END:STANDARD
END:VTIMEZONE
BEGIN:VEVENT
DTSTART;TZID=Europe/Amsterdam:20260307T201500
DTEND;TZID=Europe/Amsterdam:20260307T221500
DTSTAMP:20260422T002939
CREATED:20251219T133834Z
LAST-MODIFIED:20251219T133834Z
UID:2063-1772914500-1772921700@lasfera-armoniosa.com
SUMMARY:Cruquius Concerten - La Sfera Armoniosa
DESCRIPTION:Op uitnodiging van Cruquius Concerten stelde Mike Fentross een mooi ensemble en programma samen. \nHet ensemble La Sfera Armoniosa ontwikkelde zich in korte tijd tot een topensemble dat optrad op grote Europese festivals en podia. Het ensemble levert in verschillende bezettingen muziek van allerhoogste kwaliteit. In dit concert musiceren voor u \nChanna Malkin sopraan\,    \nEvan Buttar cello en Mike Fentross theorbe  \nHet ensemble La Sfera Armoniosa brengt muziek van vergeten Nederlandse componisten uit de zeventiende en achttiende eeuw. Centraal staan in dit concert liederen van Bach en van zijn Alkmaarse tijdgenoot Willem de Fesch. Hun liederen werden destijds gezongen door Anna Magdalena Bach die als prinselijke zangeres in dienst was aan het hof van Köthen waar toen ook Johann Sebastiaan Bach werkzaam was en door Maria-Anna de Fesch\, echtgenoot van Willem de Fesch\, die niet alleen thuis optrad\, maar ook aan de Amsterdamse Schouwburg floreerde. Beide zangeressen waren professionele musici. \nOver het programma: \nMaria-Anna de Fesch was een professionele zangeres. Zij trad op aan de Amsterdamse Schouwburg maar ook thuis. De Italiaanse canzonetten van haar echtgenoot\, Willem de Fesch\, waren bedoeld voor de huiskamer. Zijn ‘English songs’ schreef hij voor de Marlybone Pleasure Gardens\, waar de Fesch in de jaren 1748 en 1749 muzikaal directeur was. De liederen zijn zeker ook in huize de Fesch aan bod gekomen. \n \nAnna Magdalena Bach was ook een professionele zangeres. Zij was in dienst aan het hof van Köthen als Prinselijke zangeres\, het hof waar Johann Sebastian Bach in dienst was. \nBach schreef in 1730 vol trots: Zij zijn allen geboren musici\, en ik kan u verzekeren dat ik met mijn gezin zowel vocaliter als instrumentaliter een ensemble kan formeren\, vooral omdat mijn vrouw een mooie heldere sopraan heeft en ook mijn oudste dochter aardig kan meekomen. \nKaarten vindt u HIER
URL:https://lasfera-armoniosa.com/concert/cruquius-concerten-la-sfera-armoniosa/
LOCATION:De Genieloods\, Fortwachter 1\, Vijhuizen\, noordholland\, Netherlands
END:VEVENT
BEGIN:VEVENT
DTSTART;TZID=Europe/Amsterdam:20260425T200000
DTEND;TZID=Europe/Amsterdam:20260425T200000
DTSTAMP:20260422T002939
CREATED:20250525T104827Z
LAST-MODIFIED:20260404T110726Z
UID:1983-1777147200-1777147200@lasfera-armoniosa.com
SUMMARY:Huygens!
DESCRIPTION:Constantijn Huygens en zijn klerk. Thomas de Keyser\, 1627 \n\n\nDeze 17e-eeuwer was niet alleen een bekende diplomaat en secretaris van drie stadhouders\, maar ook een getalenteerd dichter\, musicus*\, kunstkenner\, architect en wetenschapper. Tot voor kort was het onbekend dat hij ook een gepassioneerd parfumeur was: er zijn onlangs 150 recepten van zijn hand ontdekt.\nOpvallend is bovendien dat Constantijn Huygens veel vrouwelijke contacten had. In dit programma wordt ook aandacht besteed aan die relaties die een rode draad door zijn lange leven hebben gespeeld. Verhalen en beelden laten zien hoe hij en zijn vriendinnen elkaars leven hebben beïnvloed. Daarbij wordt muziek uitgevoerd van Huygens’ eigen composities en die van zijn muzikale contacten\, zoals Lanier\, Lambert en Monteverdi.\n  \n\nUitvoerenden:\nIneke Huysman- spreker\nLette Vos- sopraan\,\nMike Fentross- theorbe\,\nPaulina van Laarhoven- viola da gamba\n  \nKaarten bestelt u via www.klassiekemuziek.nl \nNa afloop van het concert is er gelegenheid tot het kopen van:\nhet boek Constantijn Huygens\, Een Leven in Brieven (auteur I. Huysman en A. Leerintveld)\ngeurkaars gemaakt op basis van een parfumrecept van Constantijn Huygens\ncd’s van La Sfera Armoniosa
URL:https://lasfera-armoniosa.com/concert/huygens-3/
LOCATION:Waalse Kerk\, Walenpleintje 149\, Amsterdam\, noord holland\, Netherlands
ORGANIZER;CN="La Sfera Armoniosa":MAILTO:office@lasfera-armoniosa.com
END:VEVENT
END:VCALENDAR