BEGIN:VCALENDAR
VERSION:2.0
PRODID:-//LA SFERA ARMONIOSA - ECPv6.15.11//NONSGML v1.0//EN
CALSCALE:GREGORIAN
METHOD:PUBLISH
X-WR-CALNAME:LA SFERA ARMONIOSA
X-ORIGINAL-URL:https://lasfera-armoniosa.com
X-WR-CALDESC:Events for LA SFERA ARMONIOSA
REFRESH-INTERVAL;VALUE=DURATION:PT1H
X-Robots-Tag:noindex
X-PUBLISHED-TTL:PT1H
BEGIN:VTIMEZONE
TZID:UTC
BEGIN:STANDARD
TZOFFSETFROM:+0000
TZOFFSETTO:+0000
TZNAME:UTC
DTSTART:20210101T000000
END:STANDARD
END:VTIMEZONE
BEGIN:VEVENT
DTSTART;TZID=UTC:20221210T200000
DTEND;TZID=UTC:20221210T213000
DTSTAMP:20260424T080311
CREATED:20220611T125428Z
LAST-MODIFIED:20220927T091832Z
UID:549-1670702400-1670707800@lasfera-armoniosa.com
SUMMARY:Kerstliederen uit 7 landen en 7 eeuwen
DESCRIPTION:La Sfera Armoniosa geeft in de decembermaand opnieuw een prachtig concert in muzikale kerstsferen. Dit jaar is Kadri Tegelmann uitgenodigd voor een veelzijdige programma met kerstliederen uit 7 landen en 7 eeuwen. \nDe Estse mezzo-sopraan Tegelmann heeft een bijzondere voorliefde voor oude muziek en barok en werkte eerder succesvol samen met La Sfera Armoniosa. Daarnaast treedt Tegelmann ook veel op met twintigste eeuwse muziek o.a. het Holland Festival\, Theaterfestival Almagro\, Gaudeamus Festival en Operadagen Rotterdam. \nBehalve Kadri Tegelmann horen we dit kerstconcert Emma Huijsser (harp en blokfluit)\, Paulina van Laarhoven (viola da gamba)\, Peter Prommel (percussie) en Mike Fentross (theorbe en vihuela) \n  \nKaarten:\nhttps://www.klassiekemuziek.nl/e/16613/la-sfera-armoniosa-kadri-tegelmann-kerstliederen-uit-7-landen-en-7-eeuwen \n  \nAbonnement voor de serie Oude Muziek (5 concerten) bestellen:\nhttps://www.klassiekemuziek.nl/e/16625/tickets
URL:https://lasfera-armoniosa.com/concert/kerstconcert-kadri-tegelmann-la-sfera-armoniosa/
LOCATION:Lutherse Kerk\, Oudegracht 187\, Alkmaar\, NH\, 1811 CD\, Netherlands
ATTACH;FMTTYPE=image/jpeg:https://lasfera-armoniosa.com/wp-content/uploads/2022/06/Kadri-Tegelmann.jpg
ORGANIZER;CN="La Sfera Armoniosa":MAILTO:office@lasfera-armoniosa.com
END:VEVENT
BEGIN:VEVENT
DTSTART;TZID=UTC:20221226T150000
DTEND;TZID=UTC:20221226T163000
DTSTAMP:20260424T080311
CREATED:20220611T121856Z
LAST-MODIFIED:20220704T112241Z
UID:531-1672066800-1672072200@lasfera-armoniosa.com
SUMMARY:Stelle Lucenti
DESCRIPTION:Aan de hoven van de grote stadstaten (zoals Ferrara\, Florence\, Mantua\, Venetië) en\nde pauselijke residentie te Rome zijn aan het einde van de 16de eeuw vele musici\nwerkzaam. De hertog van Ferrara heeft een aantal sopranen in dienst en noemt hen\nConcerto delle Donne. Zij zijn de trots van het hof en treden op in speciale\nconcerten die alleen door hooggeplaatste hoflieden en belangrijke gasten worden\nbijgewoond. Aan het begin van de 17e eeuw hebben alle belangrijke Italiaanse\nhoven soortgelijke culturele ambassadrices in dienst om belangrijke evenementen\nextra cachet te geven. \nMet Keren Motseri sopraan\, Channa Malkin sopraan\, Emma Huijsser harp en\nblokfluit\, Paulina van Laarhoven viola da gamba en lirone\, Mike Fentross theorbe en\nbarokgitaar \nDe kaartverkoop start binnenkort.
URL:https://lasfera-armoniosa.com/concert/stelle-lucenti/
LOCATION:Ruïnekerk\, Raadhuisstraat 1\, Bergen\, NH\, 1861 LK\, Netherlands
ORGANIZER;CN="Ruinekerk":MAILTO:info@ruinekerk.nl
END:VEVENT
END:VCALENDAR