BEGIN:VCALENDAR
VERSION:2.0
PRODID:-//LA SFERA ARMONIOSA - ECPv6.15.11//NONSGML v1.0//EN
CALSCALE:GREGORIAN
METHOD:PUBLISH
X-WR-CALNAME:LA SFERA ARMONIOSA
X-ORIGINAL-URL:https://lasfera-armoniosa.com
X-WR-CALDESC:Events for LA SFERA ARMONIOSA
REFRESH-INTERVAL;VALUE=DURATION:PT1H
X-Robots-Tag:noindex
X-PUBLISHED-TTL:PT1H
BEGIN:VTIMEZONE
TZID:UTC
BEGIN:STANDARD
TZOFFSETFROM:+0000
TZOFFSETTO:+0000
TZNAME:UTC
DTSTART:20220101T000000
END:STANDARD
END:VTIMEZONE
BEGIN:VEVENT
DTSTART;TZID=UTC:20230514T150000
DTEND;TZID=UTC:20230514T163000
DTSTAMP:20260422T040332
CREATED:20220611T125825Z
LAST-MODIFIED:20230302T171011Z
UID:553-1684076400-1684081800@lasfera-armoniosa.com
SUMMARY:Monteverdi’s verjaardag
DESCRIPTION:Op 14 mei viert La Sfera Armoniosa Monteverdi’s verjaardag met zijn muziek en die van tijdgenoten. \nClaudio Monteverdi is altijd beschouwd als de grootste meester in deze periode. Monteverdi groeide muzikaal op in Cremona\, stad van Amati\, Stradivarius en Guarneri\, maar kwam uiteindelijke terecht in Venetië. Daar maakte hij in drie decennia de prachtigste muziek tijdens de overgang van de Renaissance naar de Barok\, een muzikaal interessante en ook roerige tijd! \nUitoverende op Monteverdi’s verjaardag zijn de Nederlandse tenor Falco van Loon\, de Italiaanse mezzosopraan Elisa de Toffol\, Paulina van Laarhoven (viola da gamba) en Mike Fentross (theorbe en vihuela)
URL:https://lasfera-armoniosa.com/concert/monteverdis-verjaardag/
LOCATION:Lutherse Kerk\, Oudegracht 187\, Alkmaar\, NH\, 1811 CD\, Netherlands
ATTACH;FMTTYPE=image/jpeg:https://lasfera-armoniosa.com/wp-content/uploads/2022/06/Claudio-Monteverdi.jpeg
ORGANIZER;CN="La Sfera Armoniosa":MAILTO:office@lasfera-armoniosa.com
END:VEVENT
END:VCALENDAR