BEGIN:VCALENDAR
VERSION:2.0
PRODID:-//LA SFERA ARMONIOSA - ECPv6.15.11//NONSGML v1.0//EN
CALSCALE:GREGORIAN
METHOD:PUBLISH
X-WR-CALNAME:LA SFERA ARMONIOSA
X-ORIGINAL-URL:https://lasfera-armoniosa.com
X-WR-CALDESC:Events for LA SFERA ARMONIOSA
REFRESH-INTERVAL;VALUE=DURATION:PT1H
X-Robots-Tag:noindex
X-PUBLISHED-TTL:PT1H
BEGIN:VTIMEZONE
TZID:Europe/Amsterdam
BEGIN:DAYLIGHT
TZOFFSETFROM:+0100
TZOFFSETTO:+0200
TZNAME:CEST
DTSTART:20230326T010000
END:DAYLIGHT
BEGIN:STANDARD
TZOFFSETFROM:+0200
TZOFFSETTO:+0100
TZNAME:CET
DTSTART:20231029T010000
END:STANDARD
BEGIN:DAYLIGHT
TZOFFSETFROM:+0100
TZOFFSETTO:+0200
TZNAME:CEST
DTSTART:20240331T010000
END:DAYLIGHT
BEGIN:STANDARD
TZOFFSETFROM:+0200
TZOFFSETTO:+0100
TZNAME:CET
DTSTART:20241027T010000
END:STANDARD
BEGIN:DAYLIGHT
TZOFFSETFROM:+0100
TZOFFSETTO:+0200
TZNAME:CEST
DTSTART:20250330T010000
END:DAYLIGHT
BEGIN:STANDARD
TZOFFSETFROM:+0200
TZOFFSETTO:+0100
TZNAME:CET
DTSTART:20251026T010000
END:STANDARD
END:VTIMEZONE
BEGIN:VEVENT
DTSTART;TZID=Europe/Amsterdam:20240908T133000
DTEND;TZID=Europe/Amsterdam:20240908T181500
DTSTAMP:20260422T141651
CREATED:20240822T194420Z
LAST-MODIFIED:20240903T085228Z
UID:1787-1725802200-1725819300@lasfera-armoniosa.com
SUMMARY:Hofjesconcerten
DESCRIPTION:Mike Fentross\, artistiek leider van La Sfera Armoniosa\, speelt vaak samen met musici uit verschillende (muzikale) culturen. Voor de Hofjesconcerten nodigt hij een aantal van zijn muzikale vrienden uit om de schitterende hofjes die Alkmaar rijk is te vullen met muziek uit vervlogen tijden en exotische oorden. \nDe musici\n\nMike Fentross\, Paulina van Laarhoven & Channa Malkin\nMarike Jager & Henk Jan Heuvelink\nMaarten Ornstein & Tony Overwater\nBeatriz Lafont & Emma Huijsser\nSantiago Cimadevilla & Ilein Bermudez\nNiti Biswas & Cora Greevenbosch\n\nDe Hofjes\nHet publiek maakt onder leiding van een stadsgids van de Historische Vereniging Alkmaar een tocht door de prachtige historische Alkmaarse binnenstad langs zes verschillende hofjes : \n\nHet Hofje van Bijlevelt (uit 1668) aan de Koningsweg\nHet Wildemanshofje (uit 1714) aan de Oudegracht\nHet Provenhuis Paling en van Foreest (uit 1540) aan de Zevenhuizen\nHet Huis van Achten (uit 1657) aan de Lombardsteeg\nHet Hof van Sonoy (uit 1744) aan het Hof van Sonoy\nDe Lutherse Kerk aan de Oudegracht\n\nDaar geven de verschillende duo’s een optreden van 30 minuten. Aan het eind van de middag komen alle musici en al het publiek samen in het Hof van Sonoy waar de klassieke-\, de barok-\, de Indiase- en de jazzmusici elkaar zullen uitdagen en inspireren tot een feestelijke muzikale afsluiting. \nDe routes\nEr zijn 8 verschillende routes met 3 concerten en stadswandelingen met gids tussen de hofjes. Kijk op https://www.klassiekemuziek.nl/e/18758/hofjesconcerten-2024-alkmaar om een route te kiezen! \nHet eerste concert van de route begint om 14 uur. Meldt u vanaf 13:30 bij het hofje waar de door u gekozen route start. \nDe Hofjesconcerten worden ondersteund door o.a. de gemeente Alkmaar en het Victoriefonds
URL:https://lasfera-armoniosa.com/concert/hofjesconcerten-2/
LOCATION:Alkmaar\, NH\, Netherlands
ATTACH;FMTTYPE=image/jpeg:https://lasfera-armoniosa.com/wp-content/uploads/2024/08/WIldemanshofje.jpg
ORGANIZER;CN="La Sfera Armoniosa":MAILTO:office@lasfera-armoniosa.com
END:VEVENT
BEGIN:VEVENT
DTSTART;TZID=Europe/Amsterdam:20240922T110000
DTEND;TZID=Europe/Amsterdam:20240922T120000
DTSTAMP:20260422T141651
CREATED:20240610T144338Z
LAST-MODIFIED:20240802T124107Z
UID:1749-1727002800-1727006400@lasfera-armoniosa.com
SUMMARY:Monteverdi's verjaardag
DESCRIPTION:La Sfera Armoniosa viert op Roeg Klassiek Monteverdi’s verjaardag met zijn muziek en die van tijdgenoten. Claudio Monteverdi is altijd beschouwd als de grootste meester van zijn tijd. Hij groeide op in Cremona\, de stad van Stradivarius\, en kwam later terecht in Venetië. Daar maakte hij in drie decennia de prachtigste muziek tijdens de overgang van de Renaissance naar de Barok\, een muzikaal interessante en ook roerige tijd! \nKijk voor meer informatie over dit evenement op www.roegklassiek.nl \nUitvoerende musici op dit muzikale feestje zijn de Nederlandse tenor Emilio Aguilar\, de sopraan Channa Malkin\, Paulina van Laarhoven (viola da gamba) en Mike Fentross (theorbe en vihuela)
URL:https://lasfera-armoniosa.com/concert/monteverdis-verjaardag-3/
LOCATION:‘t Roegwold\, Dannemeerweg 8\, Schildwolde\, GR\, 9626 TK\, Netherlands
ATTACH;FMTTYPE=image/jpeg:https://lasfera-armoniosa.com/wp-content/uploads/2024/06/Bernardo_Strozzi_-_Claudio_Monteverdi_c.1630-LS-web.jpg
ORGANIZER;CN="Roeg Klassiek":MAILTO:info@roegklassiek.nl
END:VEVENT
END:VCALENDAR