BEGIN:VCALENDAR
VERSION:2.0
PRODID:-//LA SFERA ARMONIOSA - ECPv6.15.11//NONSGML v1.0//EN
CALSCALE:GREGORIAN
METHOD:PUBLISH
X-ORIGINAL-URL:https://lasfera-armoniosa.com
X-WR-CALDESC:Events for LA SFERA ARMONIOSA
REFRESH-INTERVAL;VALUE=DURATION:PT1H
X-Robots-Tag:noindex
X-PUBLISHED-TTL:PT1H
BEGIN:VTIMEZONE
TZID:Europe/Amsterdam
BEGIN:DAYLIGHT
TZOFFSETFROM:+0100
TZOFFSETTO:+0200
TZNAME:CEST
DTSTART:20230326T010000
END:DAYLIGHT
BEGIN:STANDARD
TZOFFSETFROM:+0200
TZOFFSETTO:+0100
TZNAME:CET
DTSTART:20231029T010000
END:STANDARD
BEGIN:DAYLIGHT
TZOFFSETFROM:+0100
TZOFFSETTO:+0200
TZNAME:CEST
DTSTART:20240331T010000
END:DAYLIGHT
BEGIN:STANDARD
TZOFFSETFROM:+0200
TZOFFSETTO:+0100
TZNAME:CET
DTSTART:20241027T010000
END:STANDARD
BEGIN:DAYLIGHT
TZOFFSETFROM:+0100
TZOFFSETTO:+0200
TZNAME:CEST
DTSTART:20250330T010000
END:DAYLIGHT
BEGIN:STANDARD
TZOFFSETFROM:+0200
TZOFFSETTO:+0100
TZNAME:CET
DTSTART:20251026T010000
END:STANDARD
END:VTIMEZONE
BEGIN:VEVENT
DTSTART;TZID=Europe/Amsterdam:20241218T201500
DTEND;TZID=Europe/Amsterdam:20241218T213000
DTSTAMP:20260418T002253
CREATED:20241109T100127Z
LAST-MODIFIED:20241204T154114Z
UID:1808-1734552900-1734557400@lasfera-armoniosa.com
SUMMARY:Moeders des Vaderlands!
DESCRIPTION:Maak kennis met de sterke vrouwen die de Lage Landen vormden. Historici Femke Deen en Ineke Huysman\, samenstellers van Moeders des Vaderlands (Atlas Contact 2024)\, brengen samen met La Sfera Armoniosa de verhalen tot leven van invloedrijke vrouwen uit de politieke geschiedenis van de Nederlanden. Margaretha van Oostenrijk\, Amalia van Solms\, Anna van Hannover en andere machtige vrouwen krijgen een stem in woord\, beeld en muziek. \nDeen en Huysman vertellen over hun politieke en muzikale invloed\, afgewisseld door het ensemble La Sfera Armoniosa dat muziek uitvoert van vrouwelijke componisten als Hildegard van Bingen en Barbara Strozzi en hofmuziek uit hun tijd van Constantijn Huygens\, Monteverdi en Händel. Een bijzondere audiovisuele belevenis die de wereld van de vorstinnen tot leven wekt. Een onvergetelijk concert met de Moeders des Vaderlands! \nMet:\nLette Vos- sopraan\nPaulina van Laarhoven- viola da gamba\nMike Fentross- theorbe\nIneke Huysman- spreker\nFemke Deen- spreker \nDit concert wordt mede mogelijk gemaakt door het Huygens Instituut en NL LAB. \nKosten:\nRegulier: €25\nStudent/CJP/Stadspas groene stip: €22\,50\n\n\n\n\n\n\n*Let op! Deze prijzen hebben betrekking op de online voorverkoop. Aan de deur rekent de Waalse Kerk bovenop elk ticket €2\,50 extra aan transactiekosten. \n\n\n\n\n\n\n\n\n  \n\n\n\n 
URL:https://lasfera-armoniosa.com/concert/moeders-des-vaderlands/
LOCATION:De Waalse Hervormde Kerk Den Haag (Eglise Wallonne de La Haye)\, Noordeinde 25\, Den Haag\, ZH\, 2514GB\, Netherlands
ATTACH;FMTTYPE=image/png:https://lasfera-armoniosa.com/wp-content/uploads/2024/11/moeders.png
ORGANIZER;CN="Waalse Kerk":MAILTO:info@dewaalsekerk.nl
END:VEVENT
BEGIN:VEVENT
DTSTART;TZID=Europe/Amsterdam:20241222T150000
DTEND;TZID=Europe/Amsterdam:20241222T161500
DTSTAMP:20260418T002253
CREATED:20240610T134921Z
LAST-MODIFIED:20240925T200149Z
UID:1725-1734879600-1734884100@lasfera-armoniosa.com
SUMMARY:Kerstmuziek uit 7 landen en 7 eeuwen
DESCRIPTION:De emotie van het kerstverhaal overstijgt grenzen in plaats en in tijd. La Sfera Armoniosa neemt u mee op reis terug in de tijd naar zeven landen om de geboorte van het kindeke Jezus te vieren. Dit keer met de beroemde Sloveense mezzosopraan Barbara Kozelj. \nVan het prachtige Nederlandse lied ‘O kerstnacht schoner dan de dagen’\, uit Vondel’s toneelstuk ‘Gijbrecht van Amstel’ dat tijdens de kerst in 1637 in premiere ging\, tot ‘Morenito nino’ een 18de eeuws Peruaans lied over het donker getinte kindeke Jezus. Een Sloveens kerstlied zal zeker ook niet ontbreken. \n\nBarbara Kozelj\, mezzosopraan\nPieter van Dijk\, orgel\nPeter Prommel\, percussie\nPaulina van Laarhoven viola da gamba\nEmma Huijsser\, harp en blokfluit\nMike Fentross\, vihuala da mano en theorbe\n\nEr is naast losse kaarten ook een passepartout voor alle concerten in de serie Oude Muziek Alkmaar. Die kunt u bestellen via deze link.
URL:https://lasfera-armoniosa.com/concert/kerstmuziek-uit-7-landen-en-7-eeuwen-3/
LOCATION:Lutherse Kerk\, Oudegracht 187\, Alkmaar\, NH\, 1811 CD\, Netherlands
ATTACH;FMTTYPE=image/jpeg:https://lasfera-armoniosa.com/wp-content/uploads/2024/06/lowres_Barbara_Kozelj_2018_05b_Andreas_Terlaak-865x579-1.jpeg
ORGANIZER;CN="La Sfera Armoniosa":MAILTO:office@lasfera-armoniosa.com
END:VEVENT
END:VCALENDAR